BEGIN:VCALENDAR
VERSION:2.0
PRODID:-//wp-events-plugin.com//7.2.3.1//EN
BEGIN:VEVENT
UID:10@palousewa.gov
DTSTART:20240101T190000Z
DTEND:20240101T200000Z
DTSTAMP:20231128T165731Z
URL:https://www.palousewa.gov/events/community-center-meeting/
SUMMARY:Community Center Meeting
DESCRIPTION:Monday\, January 23\, 2024\n7:00pm at the Community Center
END:VEVENT
END:VCALENDAR