BEGIN:VCALENDAR
VERSION:2.0
PRODID:-//wp-events-plugin.com//7.2.3.1//EN
BEGIN:VEVENT
UID:1@palousewa.gov
DTSTART;TZID=America/Los_Angeles:20231104T100000
DTEND;TZID=America/Los_Angeles:20231104T170000
DTSTAMP:20231128T163933Z
URL:https://www.palousewa.gov/events/heritage-center-10th-anniversary-cele
 bration/
SUMMARY:Holiday Open House
DESCRIPTION:Holiday Shopping starts here in Palouse! In-Store Specials\, Re
 freshments\, and more!
ATTACH;FMTTYPE=image/jpeg:https://www.palousewa.gov/wp-content/uploads/202
 3/11/shopping-1.jpg
CATEGORIES:Culture
END:VEVENT
BEGIN:VTIMEZONE
TZID:America/Los_Angeles
X-LIC-LOCATION:America/Los_Angeles
BEGIN:DAYLIGHT
DTSTART:20230312T030000
TZOFFSETFROM:-0800
TZOFFSETTO:-0700
TZNAME:PDT
END:DAYLIGHT
END:VTIMEZONE
END:VCALENDAR